BEGIN:VCALENDAR
VERSION:2.0
PRODID:icalendar-ruby
CALSCALE:GREGORIAN
METHOD:PUBLISH
BEGIN:VEVENT
DTSTAMP:20260425T152326Z
UID:69-1134089@felcdecatur.org
DTSTART:20260921T160000Z
DTEND:20260921T173000Z
CLASS:PUBLIC
CREATED:20260425T082605
DESCRIPTION:THE GRIEF GROUP will meet on Mondays from\n11:00am-12:30pm in t
 he lounge on the following dates:\n\nJan 13 &amp\; 27\nFeb 10 &amp\; 24\nM
 ar 10 &amp\; 24\nApr 7 &amp\; 21\nMay 5 &amp\; 19\nJune 2 &amp\; 16\n
LAST-MODIFIED:20260425T082605
LOCATION:First Evangelical Lutheran Church\, 250 W. Decatur Street\, Decatu
 r\, IL  62522
SUMMARY:Grief Group
URL;VALUE=URI:https://www.felcdecatur.org/events/grief-group--69/2026-09-21
ATTACH;FILENAME=Grief Group.jpg;FMTTYPE=image/jpeg:https://dq5pwpg1q8ru0.cl
 oudfront.net/2023/12/08/07/28/38/86941200-dec8-44a9-a916-4968aef63c48/Grie
 f%20Group.jpg
END:VEVENT
END:VCALENDAR
